BEGIN:VCALENDAR
VERSION:2.0
PRODID:-//Brown &amp; Brown Dealer Services - ECPv6.15.18//NONSGML v1.0//EN
CALSCALE:GREGORIAN
METHOD:PUBLISH
X-WR-CALNAME:Brown &amp; Brown Dealer Services
X-ORIGINAL-URL:https://www.adgtraining.com
X-WR-CALDESC:Events for Brown &amp; Brown Dealer Services
REFRESH-INTERVAL;VALUE=DURATION:PT1H
X-Robots-Tag:noindex
X-PUBLISHED-TTL:PT1H
BEGIN:VTIMEZONE
TZID:America/Chicago
BEGIN:DAYLIGHT
TZOFFSETFROM:-0600
TZOFFSETTO:-0500
TZNAME:CDT
DTSTART:20170312T080000
END:DAYLIGHT
BEGIN:STANDARD
TZOFFSETFROM:-0500
TZOFFSETTO:-0600
TZNAME:CST
DTSTART:20171105T070000
END:STANDARD
BEGIN:DAYLIGHT
TZOFFSETFROM:-0600
TZOFFSETTO:-0500
TZNAME:CDT
DTSTART:20180311T080000
END:DAYLIGHT
BEGIN:STANDARD
TZOFFSETFROM:-0500
TZOFFSETTO:-0600
TZNAME:CST
DTSTART:20181104T070000
END:STANDARD
BEGIN:DAYLIGHT
TZOFFSETFROM:-0600
TZOFFSETTO:-0500
TZNAME:CDT
DTSTART:20190310T080000
END:DAYLIGHT
BEGIN:STANDARD
TZOFFSETFROM:-0500
TZOFFSETTO:-0600
TZNAME:CST
DTSTART:20191103T070000
END:STANDARD
END:VTIMEZONE
BEGIN:VEVENT
DTSTART;TZID=America/Chicago:20180808T090000
DTEND;TZID=America/Chicago:20180808T170000
DTSTAMP:20260420T124336
CREATED:20180525T181726Z
LAST-MODIFIED:20180731T210053Z
UID:10000238-1533718800-1533747600@www.adgtraining.com
SUMMARY:Leadership for Managers - IA
DESCRIPTION:The Proactive Leadership Experience (Foundation Course) for Today’s Owner\, GM\, GSM\, Sales Manager & Service Manager.\nUpon completion of this course the student will be able to: \n\nUnderstand and apply the PI behavioral assessment to identify how their organization can address key business issues and challenges\nMake better hiring decisions using behavioral interview techniques\nDevelop a proactive on-boarding strategy\nCoach and motivate their sales staff\n\nThis workshop is designed to help current and future dealership leaders improve their skills in: understanding the dynamics of personality types\, effective hiring practices\, on- boarding processes\, and motivating team members.
URL:https://www.adgtraining.com/event/leadership-for-managers-course-2018-08-08/
LOCATION:Courtyard by Marriott – Ankeny\, 2405 SE Creekview Dr\, Ankeny\, IA\, 50021\, United States
CATEGORIES:Leadership For Managers
GEO:41.7048588;-93.5686953
X-APPLE-STRUCTURED-LOCATION;VALUE=URI;X-ADDRESS=Courtyard by Marriott – Ankeny 2405 SE Creekview Dr Ankeny IA 50021 United States;X-APPLE-RADIUS=500;X-TITLE=2405 SE Creekview Dr:geo:-93.5686953,41.7048588
END:VEVENT
BEGIN:VEVENT
DTSTART;TZID=America/Chicago:20180515T090000
DTEND;TZID=America/Chicago:20180515T170000
DTSTAMP:20260420T124336
CREATED:20180224T003445Z
LAST-MODIFIED:20180511T162604Z
UID:10000230-1526374800-1526403600@www.adgtraining.com
SUMMARY:Leadership for Managers - MN
DESCRIPTION:The Proactive Leadership Experience (Foundation Course) for Today’s Owner\, GM\, GSM\, Sales Manager & Service Manager.\nUpon completion of this course the student will be able to: \n\nUnderstand and apply the PI behavioral assessment to identify how their organization can address key business issues and challenges\nMake better hiring decisions using behavioral interview techniques\nDevelop a proactive on-boarding strategy\nCoach and motivate their sales staff\n\nThis workshop is designed to help current and future dealership leaders improve their skills in: understanding the dynamics of personality types\, effective hiring practices\, on- boarding processes\, and motivating team members.
URL:https://www.adgtraining.com/event/leadership-for-managers-course-2018-05-15/
LOCATION:ADG Corporate Oﬃce\, 5810 W. 78th St\, Suite 300\, Bloomington\, MN\, 55439\, United States
CATEGORIES:Leadership For Managers
GEO:44.8618408;-93.357546
X-APPLE-STRUCTURED-LOCATION;VALUE=URI;X-ADDRESS=ADG Corporate Oﬃce 5810 W. 78th St Suite 300 Bloomington MN 55439 United States;X-APPLE-RADIUS=500;X-TITLE=5810 W. 78th St\, Suite 300:geo:-93.357546,44.8618408
END:VEVENT
END:VCALENDAR