BEGIN:VCALENDAR
VERSION:2.0
PRODID:-//Brown &amp; Brown Dealer Services - ECPv6.15.18//NONSGML v1.0//EN
CALSCALE:GREGORIAN
METHOD:PUBLISH
X-ORIGINAL-URL:https://www.adgtraining.com
X-WR-CALDESC:Events for Brown &amp; Brown Dealer Services
REFRESH-INTERVAL;VALUE=DURATION:PT1H
X-Robots-Tag:noindex
X-PUBLISHED-TTL:PT1H
BEGIN:VTIMEZONE
TZID:America/Chicago
BEGIN:DAYLIGHT
TZOFFSETFROM:-0600
TZOFFSETTO:-0500
TZNAME:CDT
DTSTART:20170312T080000
END:DAYLIGHT
BEGIN:STANDARD
TZOFFSETFROM:-0500
TZOFFSETTO:-0600
TZNAME:CST
DTSTART:20171105T070000
END:STANDARD
BEGIN:DAYLIGHT
TZOFFSETFROM:-0600
TZOFFSETTO:-0500
TZNAME:CDT
DTSTART:20180311T080000
END:DAYLIGHT
BEGIN:STANDARD
TZOFFSETFROM:-0500
TZOFFSETTO:-0600
TZNAME:CST
DTSTART:20181104T070000
END:STANDARD
BEGIN:DAYLIGHT
TZOFFSETFROM:-0600
TZOFFSETTO:-0500
TZNAME:CDT
DTSTART:20190310T080000
END:DAYLIGHT
BEGIN:STANDARD
TZOFFSETFROM:-0500
TZOFFSETTO:-0600
TZNAME:CST
DTSTART:20191103T070000
END:STANDARD
BEGIN:DAYLIGHT
TZOFFSETFROM:-0600
TZOFFSETTO:-0500
TZNAME:CDT
DTSTART:20200308T080000
END:DAYLIGHT
BEGIN:STANDARD
TZOFFSETFROM:-0500
TZOFFSETTO:-0600
TZNAME:CST
DTSTART:20201101T070000
END:STANDARD
END:VTIMEZONE
BEGIN:VEVENT
DTSTART;TZID=America/Chicago:20190219T090000
DTEND;TZID=America/Chicago:20190219T150000
DTSTAMP:20260420T160422
CREATED:20181204T003748Z
LAST-MODIFIED:20181204T003748Z
UID:10000269-1550566800-1550588400@www.adgtraining.com
SUMMARY:Sales Pro Course - MN
DESCRIPTION:The Proactive Total Ownership Experience (Foundation Course) for Today’s Sales Pro.\nUpon completion of this course the student will be able to: \n\nAchieve the mindset of a pro\nIdentify the dynamics of today’s customer and help make a buying decision\nUnderstand the neuroscience behind sales resistance\nControl the sales process by understanding framing and having a detailed road to the sale.\n\nThis Proactive Selling System® one-day workshop is designed to help your new employees acquire the skills they need to succeed. Participants will learn the basics of the car business\, from “meet & greet” to “asking for a sale”. They will acquire skills to overcome today’s common objections and learn effective ways to follow-up with unsold prospects.
URL:https://www.adgtraining.com/event/sales-pro-course-mn-2019-2-19/
LOCATION:ADG Corporate Oﬃce\, 5810 W. 78th St\, Suite 300\, Bloomington\, MN\, 55439\, United States
CATEGORIES:Sales Pro Course
GEO:44.8618408;-93.357546
X-APPLE-STRUCTURED-LOCATION;VALUE=URI;X-ADDRESS=ADG Corporate Oﬃce 5810 W. 78th St Suite 300 Bloomington MN 55439 United States;X-APPLE-RADIUS=500;X-TITLE=5810 W. 78th St\, Suite 300:geo:-93.357546,44.8618408
END:VEVENT
BEGIN:VEVENT
DTSTART;TZID=America/Chicago:20190205T090000
DTEND;TZID=America/Chicago:20190205T150000
DTSTAMP:20260420T160422
CREATED:20190116T164421Z
LAST-MODIFIED:20190116T165001Z
UID:10000276-1549357200-1549378800@www.adgtraining.com
SUMMARY:Sales Pro Course - NE
DESCRIPTION:The Proactive Total Ownership Experience (Foundation Course) for Today’s Sales Pro.\nUpon completion of this course the student will be able to: \n\nAchieve the mindset of a pro\nIdentify the dynamics of today’s customer and help make a buying decision\nUnderstand the neuroscience behind sales resistance\nControl the sales process by understanding framing and having a detailed road to the sale.\n\nThis Proactive Selling System® one-day workshop is designed to help your new employees acquire the skills they need to succeed. Participants will learn the basics of the car business\, from “meet & greet” to “asking for a sale”. They will acquire skills to overcome today’s common objections and learn effective ways to follow-up with unsold prospects.
URL:https://www.adgtraining.com/event/sales-pro-course-ne-2019-2-5/
LOCATION:Courtyard by Marriott – Omaha\, 12520 Westport Pkwy\, La Vista\, NE\, 68128\, United States
CATEGORIES:Sales Pro Course
GEO:41.1816761;-96.1084729
X-APPLE-STRUCTURED-LOCATION;VALUE=URI;X-ADDRESS=Courtyard by Marriott – Omaha 12520 Westport Pkwy La Vista NE 68128 United States;X-APPLE-RADIUS=500;X-TITLE=12520 Westport Pkwy:geo:-96.1084729,41.1816761
END:VEVENT
BEGIN:VEVENT
DTSTART;TZID=America/Chicago:20190124T090000
DTEND;TZID=America/Chicago:20190124T150000
DTSTAMP:20260420T160422
CREATED:20181203T191242Z
LAST-MODIFIED:20181203T191451Z
UID:10000267-1548320400-1548342000@www.adgtraining.com
SUMMARY:Sales Pro Course - SD
DESCRIPTION:The Proactive Total Ownership Experience (Foundation Course) for Today’s Sales Pro.\nUpon completion of this course the student will be able to: \n\nAchieve the mindset of a pro\nIdentify the dynamics of today’s customer and help make a buying decision\nUnderstand the neuroscience behind sales resistance\nControl the sales process by understanding framing and having a detailed road to the sale.\n\nThis Proactive Selling System® one-day workshop is designed to help your new employees acquire the skills they need to succeed. Participants will learn the basics of the car business\, from “meet & greet” to “asking for a sale”. They will acquire skills to overcome today’s common objections and learn effective ways to follow-up with unsold prospects.
URL:https://www.adgtraining.com/event/sales-pro-course-mn-2019-1-24/
LOCATION:The Lodge at Deadwood\, 100 Pine Crest Ln\, Deadwood\, SD\, 57732\, United States
CATEGORIES:Sales Pro Course
GEO:44.3947483;-103.7157004
X-APPLE-STRUCTURED-LOCATION;VALUE=URI;X-ADDRESS=The Lodge at Deadwood 100 Pine Crest Ln Deadwood SD 57732 United States;X-APPLE-RADIUS=500;X-TITLE=100 Pine Crest Ln:geo:-103.7157004,44.3947483
END:VEVENT
BEGIN:VEVENT
DTSTART;TZID=America/Chicago:20181213T090000
DTEND;TZID=America/Chicago:20181213T150000
DTSTAMP:20260420T160422
CREATED:20180918T203548Z
LAST-MODIFIED:20180918T203548Z
UID:10000260-1544691600-1544713200@www.adgtraining.com
SUMMARY:Sales Pro Course - IL
DESCRIPTION:The Proactive Total Ownership Experience (Foundation Course) for Today’s Sales Pro.\nUpon completion of this course the student will be able to: \n\nAchieve the mindset of a pro\nIdentify the dynamics of today’s customer and help make a buying decision\nUnderstand the neuroscience behind sales resistance\nControl the sales process by understanding framing and having a detailed road to the sale.\n\nThis Proactive Selling System® one-day workshop is designed to help your new employees acquire the skills they need to succeed. Participants will learn the basics of the car business\, from “meet & greet” to “asking for a sale”. They will acquire skills to overcome today’s common objections and learn effective ways to follow-up with unsold prospects.
URL:https://www.adgtraining.com/event/sales-pro-course-mn-2018-12-13/
LOCATION:Prestwick Country Club\, 601 Prestwick Drive\, Frankfort\, IL\, 60423\, United States
CATEGORIES:Sales Pro Course
GEO:41.4959049;-87.7947397
X-APPLE-STRUCTURED-LOCATION;VALUE=URI;X-ADDRESS=Prestwick Country Club 601 Prestwick Drive Frankfort IL 60423 United States;X-APPLE-RADIUS=500;X-TITLE=601 Prestwick Drive:geo:-87.7947397,41.4959049
END:VEVENT
BEGIN:VEVENT
DTSTART;TZID=America/Chicago:20181212T090000
DTEND;TZID=America/Chicago:20181212T150000
DTSTAMP:20260420T160422
CREATED:20180918T201944Z
LAST-MODIFIED:20180918T202038Z
UID:10000258-1544605200-1544626800@www.adgtraining.com
SUMMARY:Sales Pro Course - IL
DESCRIPTION:The Proactive Total Ownership Experience (Foundation Course) for Today’s Sales Pro.\nUpon completion of this course the student will be able to: \n\nAchieve the mindset of a pro\nIdentify the dynamics of today’s customer and help make a buying decision\nUnderstand the neuroscience behind sales resistance\nControl the sales process by understanding framing and having a detailed road to the sale.\n\nThis Proactive Selling System® one-day workshop is designed to help your new employees acquire the skills they need to succeed. Participants will learn the basics of the car business\, from “meet & greet” to “asking for a sale”. They will acquire skills to overcome today’s common objections and learn effective ways to follow-up with unsold prospects.
URL:https://www.adgtraining.com/event/sales-pro-course-mn-2018-12-12/
LOCATION:Prestwick Country Club\, 601 Prestwick Drive\, Frankfort\, IL\, 60423\, United States
CATEGORIES:Sales Pro Course
GEO:41.4959049;-87.7947397
X-APPLE-STRUCTURED-LOCATION;VALUE=URI;X-ADDRESS=Prestwick Country Club 601 Prestwick Drive Frankfort IL 60423 United States;X-APPLE-RADIUS=500;X-TITLE=601 Prestwick Drive:geo:-87.7947397,41.4959049
END:VEVENT
BEGIN:VEVENT
DTSTART;TZID=America/Chicago:20181109T090000
DTEND;TZID=America/Chicago:20181109T150000
DTSTAMP:20260420T160422
CREATED:20180918T195943Z
LAST-MODIFIED:20180918T195943Z
UID:10000250-1541754000-1541775600@www.adgtraining.com
SUMMARY:Sales Pro Course - IA
DESCRIPTION:The Proactive Total Ownership Experience (Foundation Course) for Today’s Sales Pro.\nUpon completion of this course the student will be able to: \n\nAchieve the mindset of a pro\nIdentify the dynamics of today’s customer and help make a buying decision\nUnderstand the neuroscience behind sales resistance\nControl the sales process by understanding framing and having a detailed road to the sale.\n\nThis Proactive Selling System® one-day workshop is designed to help your new employees acquire the skills they need to succeed. Participants will learn the basics of the car business\, from “meet & greet” to “asking for a sale”. They will acquire skills to overcome today’s common objections and learn effective ways to follow-up with unsold prospects.
URL:https://www.adgtraining.com/event/sales-pro-course-mn-2018-11-9/
LOCATION:SpringHill Suites by Marriott Coralville\, 1001 25th Ave\, Coralville\, IA\, 52241\, United States
CATEGORIES:Sales Pro Course
GEO:41.6883287;-91.6026021
X-APPLE-STRUCTURED-LOCATION;VALUE=URI;X-ADDRESS=SpringHill Suites by Marriott Coralville 1001 25th Ave Coralville IA 52241 United States;X-APPLE-RADIUS=500;X-TITLE=1001 25th Ave:geo:-91.6026021,41.6883287
END:VEVENT
BEGIN:VEVENT
DTSTART;TZID=America/Chicago:20181018T090000
DTEND;TZID=America/Chicago:20181018T150000
DTSTAMP:20260420T160422
CREATED:20180918T192319Z
LAST-MODIFIED:20180918T192319Z
UID:10000246-1539853200-1539874800@www.adgtraining.com
SUMMARY:Sales Pro Course - SD
DESCRIPTION:The Proactive Total Ownership Experience (Foundation Course) for Today’s Sales Pro.\nUpon completion of this course the student will be able to: \n\nAchieve the mindset of a pro\nIdentify the dynamics of today’s customer and help make a buying decision\nUnderstand the neuroscience behind sales resistance\nControl the sales process by understanding framing and having a detailed road to the sale.\n\nThis Proactive Selling System® one-day workshop is designed to help your new employees acquire the skills they need to succeed. Participants will learn the basics of the car business\, from “meet & greet” to “asking for a sale”. They will acquire skills to overcome today’s common objections and learn effective ways to follow-up with unsold prospects.
URL:https://www.adgtraining.com/event/sales-pro-course-mn-2018-10-18/
LOCATION:SDADA\, 3801 S Kiwanis Ave\, Sioux Falls\, SD\, 57105\, United States
CATEGORIES:Sales Pro Course
GEO:43.5100076;-96.758349
X-APPLE-STRUCTURED-LOCATION;VALUE=URI;X-ADDRESS=SDADA 3801 S Kiwanis Ave Sioux Falls SD 57105 United States;X-APPLE-RADIUS=500;X-TITLE=3801 S Kiwanis Ave:geo:-96.758349,43.5100076
END:VEVENT
BEGIN:VEVENT
DTSTART;TZID=America/Chicago:20180912T090000
DTEND;TZID=America/Chicago:20180912T150000
DTSTAMP:20260420T160422
CREATED:20180525T182952Z
LAST-MODIFIED:20180525T182952Z
UID:10000243-1536742800-1536764400@www.adgtraining.com
SUMMARY:Sales Pro Course - IL
DESCRIPTION:The Proactive Total Ownership Experience (Foundation Course) for Today’s Sales Pro.\nUpon completion of this course the student will be able to: \n\nAchieve the mindset of a pro\nIdentify the dynamics of today’s customer and help make a buying decision\nUnderstand the neuroscience behind sales resistance\nControl the sales process by understanding framing and having a detailed road to the sale.\n\nThis Proactive Selling System® one-day workshop is designed to help your new employees acquire the skills they need to succeed. Participants will learn the basics of the car business\, from “meet & greet” to “asking for a sale”. They will acquire skills to overcome today’s common objections and learn effective ways to follow-up with unsold prospects.
URL:https://www.adgtraining.com/event/sales-pro-course-mn-2018-09-12/
LOCATION:Prestwick Country Club\, 601 Prestwick Drive\, Frankfort\, IL\, 60423\, United States
CATEGORIES:Sales Pro Course
GEO:41.4959049;-87.7947397
X-APPLE-STRUCTURED-LOCATION;VALUE=URI;X-ADDRESS=Prestwick Country Club 601 Prestwick Drive Frankfort IL 60423 United States;X-APPLE-RADIUS=500;X-TITLE=601 Prestwick Drive:geo:-87.7947397,41.4959049
END:VEVENT
BEGIN:VEVENT
DTSTART;TZID=America/Chicago:20180809T090000
DTEND;TZID=America/Chicago:20180809T150000
DTSTAMP:20260420T160422
CREATED:20180525T182010Z
LAST-MODIFIED:20180801T211538Z
UID:10000239-1533805200-1533826800@www.adgtraining.com
SUMMARY:Sales Pro Course - IA
DESCRIPTION:The Proactive Total Ownership Experience (Foundation Course) for Today’s Sales Pro.\nUpon completion of this course the student will be able to: \n\nAchieve the mindset of a pro\nIdentify the dynamics of today’s customer and help make a buying decision\nUnderstand the neuroscience behind sales resistance\nControl the sales process by understanding framing and having a detailed road to the sale.\n\nThis Proactive Selling System® one-day workshop is designed to help your new employees acquire the skills they need to succeed. Participants will learn the basics of the car business\, from “meet & greet” to “asking for a sale”. They will acquire skills to overcome today’s common objections and learn effective ways to follow-up with unsold prospects.
URL:https://www.adgtraining.com/event/sales-pro-course-mn-2018-08-09/
LOCATION:SpringHill Suites by Marriott Coralville\, 1001 25th Ave\, Coralville\, IA\, 52241\, United States
CATEGORIES:Sales Pro Course
GEO:41.6883287;-91.6026021
X-APPLE-STRUCTURED-LOCATION;VALUE=URI;X-ADDRESS=SpringHill Suites by Marriott Coralville 1001 25th Ave Coralville IA 52241 United States;X-APPLE-RADIUS=500;X-TITLE=1001 25th Ave:geo:-91.6026021,41.6883287
END:VEVENT
BEGIN:VEVENT
DTSTART;TZID=America/Chicago:20180807T090000
DTEND;TZID=America/Chicago:20180807T150000
DTSTAMP:20260420T160422
CREATED:20180525T181300Z
LAST-MODIFIED:20180525T181333Z
UID:10000237-1533632400-1533654000@www.adgtraining.com
SUMMARY:Sales Pro Course - IA
DESCRIPTION:The Proactive Total Ownership Experience (Foundation Course) for Today’s Sales Pro.\nUpon completion of this course the student will be able to: \n\nAchieve the mindset of a pro\nIdentify the dynamics of today’s customer and help make a buying decision\nUnderstand the neuroscience behind sales resistance\nControl the sales process by understanding framing and having a detailed road to the sale.\n\nThis Proactive Selling System® one-day workshop is designed to help your new employees acquire the skills they need to succeed. Participants will learn the basics of the car business\, from “meet & greet” to “asking for a sale”. They will acquire skills to overcome today’s common objections and learn effective ways to follow-up with unsold prospects.
URL:https://www.adgtraining.com/event/sales-pro-course-mn-2018-08-07/
LOCATION:Courtyard by Marriott – Ankeny\, 2405 SE Creekview Dr\, Ankeny\, IA\, 50021\, United States
CATEGORIES:Sales Pro Course
GEO:41.7048588;-93.5686953
X-APPLE-STRUCTURED-LOCATION;VALUE=URI;X-ADDRESS=Courtyard by Marriott – Ankeny 2405 SE Creekview Dr Ankeny IA 50021 United States;X-APPLE-RADIUS=500;X-TITLE=2405 SE Creekview Dr:geo:-93.5686953,41.7048588
END:VEVENT
BEGIN:VEVENT
DTSTART;TZID=America/Chicago:20180626T090000
DTEND;TZID=America/Chicago:20180626T150000
DTSTAMP:20260420T160422
CREATED:20180522T191137Z
LAST-MODIFIED:20180625T175834Z
UID:10000235-1530003600-1530025200@www.adgtraining.com
SUMMARY:Sales Pro Course - MN
DESCRIPTION:The Proactive Total Ownership Experience (Foundation Course) for Today’s Sales Pro.\nUpon completion of this course the student will be able to: \n\nAchieve the mindset of a pro\nIdentify the dynamics of today’s customer and help make a buying decision\nUnderstand the neuroscience behind sales resistance\nControl the sales process by understanding framing and having a detailed road to the sale.\n\nThis Proactive Selling System® one-day workshop is designed to help your new employees acquire the skills they need to succeed. Participants will learn the basics of the car business\, from “meet & greet” to “asking for a sale”. They will acquire skills to overcome today’s common objections and learn effective ways to follow-up with unsold prospects.
URL:https://www.adgtraining.com/event/sales-pro-course-mn-2018-06-26/
LOCATION:ADG Corporate Oﬃce\, 5810 W. 78th St\, Suite 300\, Bloomington\, MN\, 55439\, United States
CATEGORIES:Sales Pro Course
GEO:44.8618408;-93.357546
X-APPLE-STRUCTURED-LOCATION;VALUE=URI;X-ADDRESS=ADG Corporate Oﬃce 5810 W. 78th St Suite 300 Bloomington MN 55439 United States;X-APPLE-RADIUS=500;X-TITLE=5810 W. 78th St\, Suite 300:geo:-93.357546,44.8618408
END:VEVENT
BEGIN:VEVENT
DTSTART;TZID=America/Chicago:20180424T090000
DTEND;TZID=America/Chicago:20180424T170000
DTSTAMP:20260420T160422
CREATED:20180224T003445Z
LAST-MODIFIED:20180419T212718Z
UID:10000229-1524560400-1524589200@www.adgtraining.com
SUMMARY:Sales Pro Course - SD
DESCRIPTION:The Proactive Total Ownership Experience (Foundation Course) for Today’s Sales Pro.\nUpon completion of this course the student will be able to: \n\nAchieve the mindset of a pro\nIdentify the dynamics of today’s customer and help make a buying decision\nUnderstand the neuroscience behind sales resistance\nControl the sales process by understanding framing and having a detailed road to the sale.\n\nThis Proactive Selling System® one-day workshop is designed to help your new employees acquire the skills they need to succeed. Participants will learn the basics of the car business\, from “meet & greet” to “asking for a sale”. They will acquire skills to overcome today’s common objections and learn effective ways to follow-up with unsold prospects.
URL:https://www.adgtraining.com/event/sales-pro-course-2018-04-24/
LOCATION:SDADA\, 3801 S Kiwanis Ave\, Sioux Falls\, SD\, 57105\, United States
CATEGORIES:Sales Pro Course
GEO:43.5100076;-96.758349
X-APPLE-STRUCTURED-LOCATION;VALUE=URI;X-ADDRESS=SDADA 3801 S Kiwanis Ave Sioux Falls SD 57105 United States;X-APPLE-RADIUS=500;X-TITLE=3801 S Kiwanis Ave:geo:-96.758349,43.5100076
END:VEVENT
BEGIN:VEVENT
DTSTART;TZID=America/Chicago:20180411T090000
DTEND;TZID=America/Chicago:20180411T170000
DTSTAMP:20260420T160422
CREATED:20180224T003445Z
LAST-MODIFIED:20180405T140929Z
UID:10000228-1523437200-1523466000@www.adgtraining.com
SUMMARY:Sales Pro Course
DESCRIPTION:The Proactive Total Ownership Experience (Foundation Course) for Today’s Sales Pro.\nUpon completion of this course the student will be able to: \n\nAchieve the mindset of a pro\nIdentify the dynamics of today’s customer and help make a buying decision\nUnderstand the neuroscience behind sales resistance\nControl the sales process by understanding framing and having a detailed road to the sale.\n\nThis Proactive Selling System® one-day workshop is designed to help your new employees acquire the skills they need to succeed. Participants will learn the basics of the car business\, from “meet & greet” to “asking for a sale”. They will acquire skills to overcome today’s common objections and learn effective ways to follow-up with unsold prospects.
URL:https://www.adgtraining.com/event/sales-pro-course-2018-04-11/
LOCATION:Prestwick Country Club\, 601 Prestwick Drive\, Frankfort\, IL\, 60423\, United States
CATEGORIES:Sales Pro Course
GEO:41.4959049;-87.7947397
X-APPLE-STRUCTURED-LOCATION;VALUE=URI;X-ADDRESS=Prestwick Country Club 601 Prestwick Drive Frankfort IL 60423 United States;X-APPLE-RADIUS=500;X-TITLE=601 Prestwick Drive:geo:-87.7947397,41.4959049
END:VEVENT
BEGIN:VEVENT
DTSTART;TZID=America/Chicago:20180320T090000
DTEND;TZID=America/Chicago:20180320T170000
DTSTAMP:20260420T160422
CREATED:20180224T003445Z
LAST-MODIFIED:20180403T201121Z
UID:10000225-1521536400-1521565200@www.adgtraining.com
SUMMARY:Sales Pro Course
DESCRIPTION:The Proactive Total Ownership Experience (Foundation Course) for Today’s Sales Pro.\nUpon completion of this course the student will be able to: \n\nAchieve the mindset of a pro\nIdentify the dynamics of today’s customer and help make a buying decision\nUnderstand the neuroscience behind sales resistance\nControl the sales process by understanding framing and having a detailed road to the sale.\n\nThis Proactive Selling System® one-day workshop is designed to help your new employees acquire the skills they need to succeed. Participants will learn the basics of the car business\, from “meet & greet” to “asking for a sale”. They will acquire skills to overcome today’s common objections and learn effective ways to follow-up with unsold prospects.
URL:https://www.adgtraining.com/event/sales-pro-course-2018-03-20/
LOCATION:Courtyard by Marriott – PA\, 3962 William Penn Hwy\, Monroeville\, PA\, 15146\, United States
CATEGORIES:Sales Pro Course
GEO:40.4371672;-79.7732855
X-APPLE-STRUCTURED-LOCATION;VALUE=URI;X-ADDRESS=Courtyard by Marriott – PA 3962 William Penn Hwy Monroeville PA 15146 United States;X-APPLE-RADIUS=500;X-TITLE=3962 William Penn Hwy:geo:-79.7732855,40.4371672
END:VEVENT
END:VCALENDAR