BEGIN:VCALENDAR
VERSION:2.0
PRODID:-//Brown &amp; Brown Dealer Services - ECPv6.15.18//NONSGML v1.0//EN
CALSCALE:GREGORIAN
METHOD:PUBLISH
X-WR-CALNAME:Brown &amp; Brown Dealer Services
X-ORIGINAL-URL:https://www.adgtraining.com
X-WR-CALDESC:Events for Brown &amp; Brown Dealer Services
REFRESH-INTERVAL;VALUE=DURATION:PT1H
X-Robots-Tag:noindex
X-PUBLISHED-TTL:PT1H
BEGIN:VTIMEZONE
TZID:America/Chicago
BEGIN:DAYLIGHT
TZOFFSETFROM:-0600
TZOFFSETTO:-0500
TZNAME:CDT
DTSTART:20170312T080000
END:DAYLIGHT
BEGIN:STANDARD
TZOFFSETFROM:-0500
TZOFFSETTO:-0600
TZNAME:CST
DTSTART:20171105T070000
END:STANDARD
BEGIN:DAYLIGHT
TZOFFSETFROM:-0600
TZOFFSETTO:-0500
TZNAME:CDT
DTSTART:20180311T080000
END:DAYLIGHT
BEGIN:STANDARD
TZOFFSETFROM:-0500
TZOFFSETTO:-0600
TZNAME:CST
DTSTART:20181104T070000
END:STANDARD
BEGIN:DAYLIGHT
TZOFFSETFROM:-0600
TZOFFSETTO:-0500
TZNAME:CDT
DTSTART:20190310T080000
END:DAYLIGHT
BEGIN:STANDARD
TZOFFSETFROM:-0500
TZOFFSETTO:-0600
TZNAME:CST
DTSTART:20191103T070000
END:STANDARD
END:VTIMEZONE
BEGIN:VEVENT
DTSTART;TZID=America/Chicago:20180306T090000
DTEND;TZID=America/Chicago:20180306T170000
DTSTAMP:20260421T000505
CREATED:20180224T003445Z
LAST-MODIFIED:20180403T201118Z
UID:10000224-1520326800-1520355600@www.adgtraining.com
SUMMARY:Service Training Course
DESCRIPTION:The Proactive Service Road to the Sale\nUpon completion of this course the student you will be able to: \n\nProactive Sales Mindset\nPsychology of Sales Resistance\nProactive Communication\nProactive Sales Process\n\nThis Proactive Selling System® workshop is designed to help service advisors improve their sales process and increase closing ratio by lowering their clients’ natural sales resistance. Participants will learn effective ways to guide and help customers make a buying decision.
URL:https://www.adgtraining.com/event/service-training-course-2018-03/
LOCATION:SpringHill Suites by Marriott Coralville\, 1001 25th Ave\, Coralville\, IA\, 52241\, United States
CATEGORIES:Service Training Course
GEO:41.6883287;-91.6026021
X-APPLE-STRUCTURED-LOCATION;VALUE=URI;X-ADDRESS=SpringHill Suites by Marriott Coralville 1001 25th Ave Coralville IA 52241 United States;X-APPLE-RADIUS=500;X-TITLE=1001 25th Ave:geo:-91.6026021,41.6883287
END:VEVENT
END:VCALENDAR