BEGIN:VCALENDAR
VERSION:2.0
PRODID:-//Brown &amp; Brown Dealer Services - ECPv6.15.18//NONSGML v1.0//EN
CALSCALE:GREGORIAN
METHOD:PUBLISH
X-ORIGINAL-URL:https://www.adgtraining.com
X-WR-CALDESC:Events for Brown &amp; Brown Dealer Services
REFRESH-INTERVAL;VALUE=DURATION:PT1H
X-Robots-Tag:noindex
X-PUBLISHED-TTL:PT1H
BEGIN:VTIMEZONE
TZID:America/Chicago
BEGIN:DAYLIGHT
TZOFFSETFROM:-0600
TZOFFSETTO:-0500
TZNAME:CDT
DTSTART:20170312T080000
END:DAYLIGHT
BEGIN:STANDARD
TZOFFSETFROM:-0500
TZOFFSETTO:-0600
TZNAME:CST
DTSTART:20171105T070000
END:STANDARD
BEGIN:DAYLIGHT
TZOFFSETFROM:-0600
TZOFFSETTO:-0500
TZNAME:CDT
DTSTART:20180311T080000
END:DAYLIGHT
BEGIN:STANDARD
TZOFFSETFROM:-0500
TZOFFSETTO:-0600
TZNAME:CST
DTSTART:20181104T070000
END:STANDARD
BEGIN:DAYLIGHT
TZOFFSETFROM:-0600
TZOFFSETTO:-0500
TZNAME:CDT
DTSTART:20190310T080000
END:DAYLIGHT
BEGIN:STANDARD
TZOFFSETFROM:-0500
TZOFFSETTO:-0600
TZNAME:CST
DTSTART:20191103T070000
END:STANDARD
END:VTIMEZONE
BEGIN:VEVENT
DTSTART;TZID=America/Chicago:20180724T090000
DTEND;TZID=America/Chicago:20180724T170000
DTSTAMP:20260424T135540
CREATED:20180524T200752Z
LAST-MODIFIED:20180710T190231Z
UID:10000236-1532422800-1532451600@www.adgtraining.com
SUMMARY:F&I Foundation Course - PA
DESCRIPTION:The Proactive Total Ownership Experience (Foundation Course) for Today’s F&I Pro\nUpon completion of this course the student will be able to: \n\nMake and establish a connection with the buyers\nImprove your Presentation Skills\nStreamline your Process\nBundle Product Sales\nSell MORE Product\n\nThis Proactive Selling System® one-day workshop is designed to drive results with today’s buyers. Our past participants of this impactful workshop experienced dramatic PVR changes. You will learn ways to expedite your process and create an environment where customers will buy more.
URL:https://www.adgtraining.com/event/fi-foundation-course-2018-07-24/
LOCATION:Courtyard by Marriott – PA\, 3962 William Penn Hwy\, Monroeville\, PA\, 15146\, United States
CATEGORIES:F&I Foundation Course
GEO:40.4371672;-79.7732855
X-APPLE-STRUCTURED-LOCATION;VALUE=URI;X-ADDRESS=Courtyard by Marriott – PA 3962 William Penn Hwy Monroeville PA 15146 United States;X-APPLE-RADIUS=500;X-TITLE=3962 William Penn Hwy:geo:-79.7732855,40.4371672
END:VEVENT
END:VCALENDAR