BEGIN:VCALENDAR
VERSION:2.0
PRODID:-//Brown &amp; Brown Dealer Services - ECPv6.15.18//NONSGML v1.0//EN
CALSCALE:GREGORIAN
METHOD:PUBLISH
X-WR-CALNAME:Brown &amp; Brown Dealer Services
X-ORIGINAL-URL:https://www.adgtraining.com
X-WR-CALDESC:Events for Brown &amp; Brown Dealer Services
REFRESH-INTERVAL;VALUE=DURATION:PT1H
X-Robots-Tag:noindex
X-PUBLISHED-TTL:PT1H
BEGIN:VTIMEZONE
TZID:America/Chicago
BEGIN:DAYLIGHT
TZOFFSETFROM:-0600
TZOFFSETTO:-0500
TZNAME:CDT
DTSTART:20180311T080000
END:DAYLIGHT
BEGIN:STANDARD
TZOFFSETFROM:-0500
TZOFFSETTO:-0600
TZNAME:CST
DTSTART:20181104T070000
END:STANDARD
BEGIN:DAYLIGHT
TZOFFSETFROM:-0600
TZOFFSETTO:-0500
TZNAME:CDT
DTSTART:20190310T080000
END:DAYLIGHT
BEGIN:STANDARD
TZOFFSETFROM:-0500
TZOFFSETTO:-0600
TZNAME:CST
DTSTART:20191103T070000
END:STANDARD
BEGIN:DAYLIGHT
TZOFFSETFROM:-0600
TZOFFSETTO:-0500
TZNAME:CDT
DTSTART:20200308T080000
END:DAYLIGHT
BEGIN:STANDARD
TZOFFSETFROM:-0500
TZOFFSETTO:-0600
TZNAME:CST
DTSTART:20201101T070000
END:STANDARD
END:VTIMEZONE
BEGIN:VEVENT
DTSTART;TZID=America/Chicago:20191217T090000
DTEND;TZID=America/Chicago:20191217T170000
DTSTAMP:20260423T103336
CREATED:20191014T182722Z
LAST-MODIFIED:20191014T182722Z
UID:10000207-1576573200-1576602000@www.adgtraining.com
SUMMARY:Leadership for Managers - IL
DESCRIPTION:The Proactive Leadership Experience (Foundation Course) for Today’s Owner\, GM\, GSM\, Sales Manager & Service Manager.\nUpon completion of this course the student will be able to: \n\nUnderstand and apply the PI behavioral assessment to identify how their organization can address key business issues and challenges\nMake better hiring decisions using behavioral interview techniques\nDevelop a proactive on-boarding strategy\nCoach and motivate their sales staff\n\nThis workshop is designed to help current and future dealership leaders improve their skills in: understanding the dynamics of personality types\, effective hiring practices\, on- boarding processes\, and motivating team members.
URL:https://www.adgtraining.com/event/leadership-for-managers-course-2019-12-17/
LOCATION:Prestwick Country Club\, 601 Prestwick Drive\, Frankfort\, IL\, 60423\, United States
CATEGORIES:Leadership For Managers
GEO:41.4959049;-87.7947397
X-APPLE-STRUCTURED-LOCATION;VALUE=URI;X-ADDRESS=Prestwick Country Club 601 Prestwick Drive Frankfort IL 60423 United States;X-APPLE-RADIUS=500;X-TITLE=601 Prestwick Drive:geo:-87.7947397,41.4959049
END:VEVENT
BEGIN:VEVENT
DTSTART;TZID=America/Chicago:20191218T090000
DTEND;TZID=America/Chicago:20191218T170000
DTSTAMP:20260423T103336
CREATED:20191014T183107Z
LAST-MODIFIED:20191014T183144Z
UID:10000208-1576659600-1576688400@www.adgtraining.com
SUMMARY:Service Pro - IL
DESCRIPTION:Upon completion of this course the student you will be able to: \n\nAchieve the mindset of a pro\nIdentify the dynamics of today’s customer and help make a buying decision\nUnderstand the neuroscience behind sales resistance and how to lower it\nControl the sales process with framing statements\nDeliver the Total Ownership Experience\n\nThis proven Proactive Selling System® workshop is designed to help service advisors improve their sales process and increase closing ratios by lowering the client’s natural sales resistance.  Participants will learn effective skills to help guide them and the customer to a buying decision.
URL:https://www.adgtraining.com/event/service-training-course-2019-12-18/
LOCATION:Prestwick Country Club\, 601 Prestwick Drive\, Frankfort\, IL\, 60423\, United States
CATEGORIES:Service Training Course
GEO:41.4959049;-87.7947397
X-APPLE-STRUCTURED-LOCATION;VALUE=URI;X-ADDRESS=Prestwick Country Club 601 Prestwick Drive Frankfort IL 60423 United States;X-APPLE-RADIUS=500;X-TITLE=601 Prestwick Drive:geo:-87.7947397,41.4959049
END:VEVENT
BEGIN:VEVENT
DTSTART;TZID=America/Chicago:20191219T090000
DTEND;TZID=America/Chicago:20191219T170000
DTSTAMP:20260423T103336
CREATED:20191014T183552Z
LAST-MODIFIED:20191014T183646Z
UID:10000209-1576746000-1576774800@www.adgtraining.com
SUMMARY:Sales Pro - IL
DESCRIPTION:The Proactive Total Ownership Experience (Foundation Course) for Today’s Sales Pro.\nUpon completion of this course the student will be able to: \n\nAchieve the mindset of a pro\nIdentify the dynamics of today’s customer and help make a buying decision\nUnderstand the neuroscience behind sales resistance and how to lower it\nControl the sales process with framing statements\nDeliver the Total Ownership Experience \n\nThis proven Proactive Selling System® workshop will help ALL sales employees acquire and enhance the skills necessary to succeed with today’s educated buyer. Participants will learn how to engage the customer by guiding them thru the ownership experience while eliminating today’s common objections.
URL:https://www.adgtraining.com/event/sales-pro-course-mn-2019-12-19/
LOCATION:Prestwick Country Club\, 601 Prestwick Drive\, Frankfort\, IL\, 60423\, United States
CATEGORIES:Sales Pro Course
GEO:41.4959049;-87.7947397
X-APPLE-STRUCTURED-LOCATION;VALUE=URI;X-ADDRESS=Prestwick Country Club 601 Prestwick Drive Frankfort IL 60423 United States;X-APPLE-RADIUS=500;X-TITLE=601 Prestwick Drive:geo:-87.7947397,41.4959049
END:VEVENT
END:VCALENDAR