BEGIN:VCALENDAR
VERSION:2.0
PRODID:-//Brown &amp; Brown Dealer Services - ECPv6.15.18//NONSGML v1.0//EN
CALSCALE:GREGORIAN
METHOD:PUBLISH
X-ORIGINAL-URL:https://www.adgtraining.com
X-WR-CALDESC:Events for Brown &amp; Brown Dealer Services
REFRESH-INTERVAL;VALUE=DURATION:PT1H
X-Robots-Tag:noindex
X-PUBLISHED-TTL:PT1H
BEGIN:VTIMEZONE
TZID:America/Chicago
BEGIN:DAYLIGHT
TZOFFSETFROM:-0600
TZOFFSETTO:-0500
TZNAME:CDT
DTSTART:20190310T080000
END:DAYLIGHT
BEGIN:STANDARD
TZOFFSETFROM:-0500
TZOFFSETTO:-0600
TZNAME:CST
DTSTART:20191103T070000
END:STANDARD
BEGIN:DAYLIGHT
TZOFFSETFROM:-0600
TZOFFSETTO:-0500
TZNAME:CDT
DTSTART:20200308T080000
END:DAYLIGHT
BEGIN:STANDARD
TZOFFSETFROM:-0500
TZOFFSETTO:-0600
TZNAME:CST
DTSTART:20201101T070000
END:STANDARD
BEGIN:DAYLIGHT
TZOFFSETFROM:-0600
TZOFFSETTO:-0500
TZNAME:CDT
DTSTART:20210314T080000
END:DAYLIGHT
BEGIN:STANDARD
TZOFFSETFROM:-0500
TZOFFSETTO:-0600
TZNAME:CST
DTSTART:20211107T070000
END:STANDARD
END:VTIMEZONE
BEGIN:VEVENT
DTSTART;TZID=America/Chicago:20200317T090000
DTEND;TZID=America/Chicago:20200317T170000
DTSTAMP:20260423T055341
CREATED:20191218T203156Z
LAST-MODIFIED:20200218T193347Z
UID:10000304-1584435600-1584464400@www.adgtraining.com
SUMMARY:Sales Pro - IL
DESCRIPTION:The Proactive Total Ownership Experience (Foundation Course) for Today’s Sales Pro.\nUpon completion of this course the student will be able to: \n\nAchieve the mindset of a pro\nIdentify the dynamics of today’s customer and help make a buying decision\nUnderstand the neuroscience behind sales resistance and how to lower it\nControl the sales process with framing statements\nDeliver the Total Ownership Experience \n\nThis proven Proactive Selling System® workshop will help ALL sales employees acquire and enhance the skills necessary to succeed with today’s educated buyer. Participants will learn how to engage the customer by guiding them thru the ownership experience while eliminating today’s common objections.
URL:https://www.adgtraining.com/event/sales-pro-course-il-2020-3-17/
LOCATION:Prestwick Country Club\, 601 Prestwick Drive\, Frankfort\, IL\, 60423\, United States
CATEGORIES:Sales Pro Course
GEO:41.4959049;-87.7947397
X-APPLE-STRUCTURED-LOCATION;VALUE=URI;X-ADDRESS=Prestwick Country Club 601 Prestwick Drive Frankfort IL 60423 United States;X-APPLE-RADIUS=500;X-TITLE=601 Prestwick Drive:geo:-87.7947397,41.4959049
END:VEVENT
BEGIN:VEVENT
DTSTART;TZID=America/Chicago:20200319T090000
DTEND;TZID=America/Chicago:20200319T170000
DTSTAMP:20260423T055341
CREATED:20191218T204820Z
LAST-MODIFIED:20200218T194023Z
UID:10000305-1584608400-1584637200@www.adgtraining.com
SUMMARY:Sales Pro - IL
DESCRIPTION:The Proactive Total Ownership Experience (Foundation Course) for Today’s Sales Pro.\nUpon completion of this course the student will be able to: \n\nAchieve the mindset of a pro\nIdentify the dynamics of today’s customer and help make a buying decision\nUnderstand the neuroscience behind sales resistance and how to lower it\nControl the sales process with framing statements\nDeliver the Total Ownership Experience \n\nThis proven Proactive Selling System® workshop will help ALL sales employees acquire and enhance the skills necessary to succeed with today’s educated buyer. Participants will learn how to engage the customer by guiding them thru the ownership experience while eliminating today’s common objections.
URL:https://www.adgtraining.com/event/sales-pro-course-il-2020-3-19/
LOCATION:Prestwick Country Club\, 601 Prestwick Drive\, Frankfort\, IL\, 60423\, United States
CATEGORIES:Sales Pro Course
GEO:41.4959049;-87.7947397
X-APPLE-STRUCTURED-LOCATION;VALUE=URI;X-ADDRESS=Prestwick Country Club 601 Prestwick Drive Frankfort IL 60423 United States;X-APPLE-RADIUS=500;X-TITLE=601 Prestwick Drive:geo:-87.7947397,41.4959049
END:VEVENT
END:VCALENDAR