BEGIN:VCALENDAR
VERSION:2.0
PRODID:-//Brown &amp; Brown Dealer Services - ECPv6.15.18//NONSGML v1.0//EN
CALSCALE:GREGORIAN
METHOD:PUBLISH
X-ORIGINAL-URL:https://www.adgtraining.com
X-WR-CALDESC:Events for Brown &amp; Brown Dealer Services
REFRESH-INTERVAL;VALUE=DURATION:PT1H
X-Robots-Tag:noindex
X-PUBLISHED-TTL:PT1H
BEGIN:VTIMEZONE
TZID:America/Chicago
BEGIN:DAYLIGHT
TZOFFSETFROM:-0600
TZOFFSETTO:-0500
TZNAME:CDT
DTSTART:20190310T080000
END:DAYLIGHT
BEGIN:STANDARD
TZOFFSETFROM:-0500
TZOFFSETTO:-0600
TZNAME:CST
DTSTART:20191103T070000
END:STANDARD
BEGIN:DAYLIGHT
TZOFFSETFROM:-0600
TZOFFSETTO:-0500
TZNAME:CDT
DTSTART:20200308T080000
END:DAYLIGHT
BEGIN:STANDARD
TZOFFSETFROM:-0500
TZOFFSETTO:-0600
TZNAME:CST
DTSTART:20201101T070000
END:STANDARD
BEGIN:DAYLIGHT
TZOFFSETFROM:-0600
TZOFFSETTO:-0500
TZNAME:CDT
DTSTART:20210314T080000
END:DAYLIGHT
BEGIN:STANDARD
TZOFFSETFROM:-0500
TZOFFSETTO:-0600
TZNAME:CST
DTSTART:20211107T070000
END:STANDARD
END:VTIMEZONE
BEGIN:VEVENT
DTSTART;TZID=America/Chicago:20200504T090000
DTEND;TZID=America/Chicago:20200504T170000
DTSTAMP:20260423T030808
CREATED:20200311T195656Z
LAST-MODIFIED:20200311T195656Z
UID:10000213-1588582800-1588611600@www.adgtraining.com
SUMMARY:Sales Pro - NE
DESCRIPTION:The Proactive Total Ownership Experience (Foundation Course) for Today’s Sales Pro.\nUpon completion of this course the student will be able to: \n\nAchieve the mindset of a pro\nIdentify the dynamics of today’s customer and help make a buying decision\nUnderstand the neuroscience behind sales resistance and how to lower it\nControl the sales process with framing statements\nDeliver the Total Ownership Experience \n\nThis proven Proactive Selling System® workshop will help ALL sales employees acquire and enhance the skills necessary to succeed with today’s educated buyer. Participants will learn how to engage the customer by guiding them thru the ownership experience while eliminating today’s common objections.
URL:https://www.adgtraining.com/event/sales-pro-course-ne-2020-5-4/
LOCATION:The Palyers Club\, 12101 Deer Creek Dr\, Omaha\, NE\, 68142\, United States
CATEGORIES:Sales Pro Course
GEO:41.3267756;-96.101984
X-APPLE-STRUCTURED-LOCATION;VALUE=URI;X-ADDRESS=The Palyers Club 12101 Deer Creek Dr Omaha NE 68142 United States;X-APPLE-RADIUS=500;X-TITLE=12101 Deer Creek Dr:geo:-96.101984,41.3267756
END:VEVENT
BEGIN:VEVENT
DTSTART;TZID=America/Chicago:20200505T090000
DTEND;TZID=America/Chicago:20200505T170000
DTSTAMP:20260423T030808
CREATED:20200311T203347Z
LAST-MODIFIED:20200311T203347Z
UID:10000214-1588669200-1588698000@www.adgtraining.com
SUMMARY:Sales Pro - IA
DESCRIPTION:The Proactive Total Ownership Experience (Foundation Course) for Today’s Sales Pro.\nUpon completion of this course the student will be able to: \n\nAchieve the mindset of a pro\nIdentify the dynamics of today’s customer and help make a buying decision\nUnderstand the neuroscience behind sales resistance and how to lower it\nControl the sales process with framing statements\nDeliver the Total Ownership Experience \n\nThis proven Proactive Selling System® workshop will help ALL sales employees acquire and enhance the skills necessary to succeed with today’s educated buyer. Participants will learn how to engage the customer by guiding them thru the ownership experience while eliminating today’s common objections.
URL:https://www.adgtraining.com/event/sales-pro-course-ia-2020-5-5/
LOCATION:Residence Inn by Marriott Coralville\, 2681 James St\, Coralville\, IA\, 52241\, United States
CATEGORIES:Sales Pro Course
GEO:41.6867964;-91.6092344
X-APPLE-STRUCTURED-LOCATION;VALUE=URI;X-ADDRESS=Residence Inn by Marriott Coralville 2681 James St Coralville IA 52241 United States;X-APPLE-RADIUS=500;X-TITLE=2681 James St:geo:-91.6092344,41.6867964
END:VEVENT
BEGIN:VEVENT
DTSTART;TZID=America/Chicago:20200506T090000
DTEND;TZID=America/Chicago:20200506T170000
DTSTAMP:20260423T030808
CREATED:20200311T203618Z
LAST-MODIFIED:20200311T203618Z
UID:10000215-1588755600-1588784400@www.adgtraining.com
SUMMARY:Sales Pro - IA
DESCRIPTION:The Proactive Total Ownership Experience (Foundation Course) for Today’s Sales Pro.\nUpon completion of this course the student will be able to: \n\nAchieve the mindset of a pro\nIdentify the dynamics of today’s customer and help make a buying decision\nUnderstand the neuroscience behind sales resistance and how to lower it\nControl the sales process with framing statements\nDeliver the Total Ownership Experience \n\nThis proven Proactive Selling System® workshop will help ALL sales employees acquire and enhance the skills necessary to succeed with today’s educated buyer. Participants will learn how to engage the customer by guiding them thru the ownership experience while eliminating today’s common objections.
URL:https://www.adgtraining.com/event/sales-pro-course-ia-2020-5-6/
LOCATION:Courtyard by Marriott – Ankeny\, 2405 SE Creekview Dr\, Ankeny\, IA\, 50021\, United States
CATEGORIES:Sales Pro Course
GEO:41.7048588;-93.5686953
X-APPLE-STRUCTURED-LOCATION;VALUE=URI;X-ADDRESS=Courtyard by Marriott – Ankeny 2405 SE Creekview Dr Ankeny IA 50021 United States;X-APPLE-RADIUS=500;X-TITLE=2405 SE Creekview Dr:geo:-93.5686953,41.7048588
END:VEVENT
BEGIN:VEVENT
DTSTART;TZID=America/Chicago:20200512T090000
DTEND;TZID=America/Chicago:20200512T170000
DTSTAMP:20260423T030808
CREATED:20200313T154544Z
LAST-MODIFIED:20200313T154544Z
UID:10000216-1589274000-1589302800@www.adgtraining.com
SUMMARY:Sales Pro - MN
DESCRIPTION:The Proactive Total Ownership Experience (Foundation Course) for Today’s Sales Pro.\nUpon completion of this course the student will be able to: \n\nAchieve the mindset of a pro\nIdentify the dynamics of today’s customer and help make a buying decision\nUnderstand the neuroscience behind sales resistance and how to lower it\nControl the sales process with framing statements\nDeliver the Total Ownership Experience \n\nThis proven Proactive Selling System® workshop will help ALL sales employees acquire and enhance the skills necessary to succeed with today’s educated buyer. Participants will learn how to engage the customer by guiding them thru the ownership experience while eliminating today’s common objections.
URL:https://www.adgtraining.com/event/sales-pro-course-mn-2020-5-12/
LOCATION:ADG Corporate Oﬃce\, 5810 W. 78th St\, Suite 300\, Bloomington\, MN\, 55439\, United States
CATEGORIES:Sales Pro Course
GEO:44.8618408;-93.357546
X-APPLE-STRUCTURED-LOCATION;VALUE=URI;X-ADDRESS=ADG Corporate Oﬃce 5810 W. 78th St Suite 300 Bloomington MN 55439 United States;X-APPLE-RADIUS=500;X-TITLE=5810 W. 78th St\, Suite 300:geo:-93.357546,44.8618408
END:VEVENT
BEGIN:VEVENT
DTSTART;TZID=America/Chicago:20200512T090000
DTEND;TZID=America/Chicago:20200513T170000
DTSTAMP:20260423T030808
CREATED:20200313T155051Z
LAST-MODIFIED:20200313T155051Z
UID:10000217-1589274000-1589389200@www.adgtraining.com
SUMMARY:F&I Pro - MN
DESCRIPTION:The Proactive Total Ownership Experience (Foundation Course) for Today’s F&I Pro\nUpon completion of this course the student will be able to: \n\nMake and establish a connection with the buyers\nImprove your Presentation Skills\nStreamline your Process\nBundle Product Sales\nSell MORE Product\n\nThis Proactive Selling System® workshop is designed to drive results with today’s buyers. Our past participants of this impactful workshop experienced dramatic PVR changes. You will learn ways to expedite your process and create an environment where customers will buy more.
URL:https://www.adgtraining.com/event/fi-foundation-course-2020-5-13/
LOCATION:ADG Corporate Oﬃce\, 5810 W. 78th St\, Suite 300\, Bloomington\, MN\, 55439\, United States
CATEGORIES:F&I Foundation Course
GEO:44.8618408;-93.357546
X-APPLE-STRUCTURED-LOCATION;VALUE=URI;X-ADDRESS=ADG Corporate Oﬃce 5810 W. 78th St Suite 300 Bloomington MN 55439 United States;X-APPLE-RADIUS=500;X-TITLE=5810 W. 78th St\, Suite 300:geo:-93.357546,44.8618408
END:VEVENT
BEGIN:VEVENT
DTSTART;TZID=America/Chicago:20200526T090000
DTEND;TZID=America/Chicago:20200526T170000
DTSTAMP:20260423T030808
CREATED:20200313T155503Z
LAST-MODIFIED:20200313T155503Z
UID:10000218-1590483600-1590512400@www.adgtraining.com
SUMMARY:Leadership for Managers - MN
DESCRIPTION:The Proactive Leadership Experience (Foundation Course) for Today’s Owner\, GM\, GSM\, Sales Manager & Service Manager.\nUpon completion of this course the student will be able to: \n\nUnderstand and apply the PI behavioral assessment to identify how their organization can address key business issues and challenges\nMake better hiring decisions using behavioral interview techniques\nDevelop a proactive on-boarding strategy\nCoach and motivate their sales staff\n\nThis workshop is designed to help current and future dealership leaders improve their skills in: understanding the dynamics of personality types\, effective hiring practices\, on- boarding processes\, and motivating team members.
URL:https://www.adgtraining.com/event/leadership-for-managers-course-2020-5-26/
LOCATION:ADG Corporate Oﬃce\, 5810 W. 78th St\, Suite 300\, Bloomington\, MN\, 55439\, United States
CATEGORIES:Leadership For Managers
GEO:44.8618408;-93.357546
X-APPLE-STRUCTURED-LOCATION;VALUE=URI;X-ADDRESS=ADG Corporate Oﬃce 5810 W. 78th St Suite 300 Bloomington MN 55439 United States;X-APPLE-RADIUS=500;X-TITLE=5810 W. 78th St\, Suite 300:geo:-93.357546,44.8618408
END:VEVENT
END:VCALENDAR