BEGIN:VCALENDAR
VERSION:2.0
PRODID:-//Brown &amp; Brown Dealer Services - ECPv6.15.18//NONSGML v1.0//EN
CALSCALE:GREGORIAN
METHOD:PUBLISH
X-WR-CALNAME:Brown &amp; Brown Dealer Services
X-ORIGINAL-URL:https://www.adgtraining.com
X-WR-CALDESC:Events for Brown &amp; Brown Dealer Services
REFRESH-INTERVAL;VALUE=DURATION:PT1H
X-Robots-Tag:noindex
X-PUBLISHED-TTL:PT1H
BEGIN:VTIMEZONE
TZID:America/Chicago
BEGIN:DAYLIGHT
TZOFFSETFROM:-0600
TZOFFSETTO:-0500
TZNAME:CDT
DTSTART:20200308T080000
END:DAYLIGHT
BEGIN:STANDARD
TZOFFSETFROM:-0500
TZOFFSETTO:-0600
TZNAME:CST
DTSTART:20201101T070000
END:STANDARD
BEGIN:DAYLIGHT
TZOFFSETFROM:-0600
TZOFFSETTO:-0500
TZNAME:CDT
DTSTART:20210314T080000
END:DAYLIGHT
BEGIN:STANDARD
TZOFFSETFROM:-0500
TZOFFSETTO:-0600
TZNAME:CST
DTSTART:20211107T070000
END:STANDARD
BEGIN:DAYLIGHT
TZOFFSETFROM:-0600
TZOFFSETTO:-0500
TZNAME:CDT
DTSTART:20220313T080000
END:DAYLIGHT
BEGIN:STANDARD
TZOFFSETFROM:-0500
TZOFFSETTO:-0600
TZNAME:CST
DTSTART:20221106T070000
END:STANDARD
END:VTIMEZONE
BEGIN:VEVENT
DTSTART;TZID=America/Chicago:20211005T090000
DTEND;TZID=America/Chicago:20211005T160000
DTSTAMP:20260421T232100
CREATED:20210920T191322Z
LAST-MODIFIED:20210921T204406Z
UID:10000257-1633424400-1633449600@www.adgtraining.com
SUMMARY:Sales Workshop
DESCRIPTION:The Proactive Total Ownership Experience (Foundation Course) for Today’s Sales Pro.\nUpon completion of this course the student will be able to: \n\nAchieve the mindset of a pro\nIdentify the dynamics of today’s customer and help make a buying decision\nUnderstand the neuroscience behind sales resistance and how to lower it\nControl the sales process with framing statements\nDeliver the Total Ownership Experience \n\nThis proven Proactive Selling System® workshop will help ALL sales employees acquire and enhance the skills necessary to succeed with today’s educated buyer. Participants will learn how to engage the customer by guiding them thru the ownership experience while eliminating today’s common objections.
URL:https://www.adgtraining.com/event/sales-workshop-course-2021-10-5/
LOCATION:Jackpot Junction Casino\, 39375 County Rd 24\, Morton\, MN\, 56270\, United States
CATEGORIES:Sales Pro Course
GEO:44.5314151;-94.9992333
X-APPLE-STRUCTURED-LOCATION;VALUE=URI;X-ADDRESS=Jackpot Junction Casino 39375 County Rd 24 Morton MN 56270 United States;X-APPLE-RADIUS=500;X-TITLE=39375 County Rd 24:geo:-94.9992333,44.5314151
END:VEVENT
BEGIN:VEVENT
DTSTART;TZID=America/Chicago:20211007T090000
DTEND;TZID=America/Chicago:20211007T160000
DTSTAMP:20260421T232100
CREATED:20210920T193032Z
LAST-MODIFIED:20210920T193032Z
UID:10000259-1633597200-1633622400@www.adgtraining.com
SUMMARY:Sales Workshop
DESCRIPTION:The Proactive Total Ownership Experience (Foundation Course) for Today’s Sales Pro.\nUpon completion of this course the student will be able to: \n\nAchieve the mindset of a pro\nIdentify the dynamics of today’s customer and help make a buying decision\nUnderstand the neuroscience behind sales resistance and how to lower it\nControl the sales process with framing statements\nDeliver the Total Ownership Experience \n\nThis proven Proactive Selling System® workshop will help ALL sales employees acquire and enhance the skills necessary to succeed with today’s educated buyer. Participants will learn how to engage the customer by guiding them thru the ownership experience while eliminating today’s common objections.
URL:https://www.adgtraining.com/event/sales-workshop-course-2021-10-7/
LOCATION:AmericInn – Iron Mountain\, 2005 S Stephenson Ave\, Iron Mountain\, MI\, 49801\, United States
CATEGORIES:Sales Pro Course
GEO:45.8109173;-88.0356139
X-APPLE-STRUCTURED-LOCATION;VALUE=URI;X-ADDRESS=AmericInn – Iron Mountain 2005 S Stephenson Ave Iron Mountain MI 49801 United States;X-APPLE-RADIUS=500;X-TITLE=2005 S Stephenson Ave:geo:-88.0356139,45.8109173
END:VEVENT
BEGIN:VEVENT
DTSTART;TZID=America/Chicago:20211019T083000
DTEND;TZID=America/Chicago:20211019T113000
DTSTAMP:20260421T232100
CREATED:20210929T203122Z
LAST-MODIFIED:20210929T203253Z
UID:10000265-1634632200-1634643000@www.adgtraining.com
SUMMARY:Session 1 - F&I
DESCRIPTION:The Proactive Total Ownership Experience (Advanced Course) for Today’s F & I Pro\nUpon completion of this course the student will be able to: \n\nIncrease Lease PLU\nForecast sales and track results to achieve department and dealership goals\nHandle Objections\nIncrease finance penetration by increasing cash conversions\n\nThis Proactive Selling System® one-day workshop is designed to increase the levels of your F&I Managers skills in the following areas – effective menu presentation\, cash conversions\, lease presentation\, objection handling\, forecasting and tracking (department and individual). Your managers will leave with a game plan to up their performance in these areas.
URL:https://www.adgtraining.com/event/advanced-fi-course-2021-10-19-2/
LOCATION:Holiday Inn and Bien Venu Event Center\, 7400 Hudson Rd\, Cedar Falls\, IA\, 50613\, United States
CATEGORIES:Advanced F&I Course
GEO:42.4719372;-92.4640848
X-APPLE-STRUCTURED-LOCATION;VALUE=URI;X-ADDRESS=Holiday Inn and Bien Venu Event Center 7400 Hudson Rd Cedar Falls IA 50613 United States;X-APPLE-RADIUS=500;X-TITLE=7400 Hudson Rd:geo:-92.4640848,42.4719372
END:VEVENT
BEGIN:VEVENT
DTSTART;TZID=America/Chicago:20211019T090000
DTEND;TZID=America/Chicago:20211019T160000
DTSTAMP:20260421T232100
CREATED:20210809T190921Z
LAST-MODIFIED:20210809T190921Z
UID:10000340-1634634000-1634659200@www.adgtraining.com
SUMMARY:Advanced F&I Pro - IA
DESCRIPTION:The Proactive Total Ownership Experience (Advanced Course) for Today’s F & I Pro\nUpon completion of this course the student will be able to: \n\nIncrease Lease PLU\nForecast sales and track results to achieve department and dealership goals\nHandle Objections\nIncrease finance penetration by increasing cash conversions\n\nThis Proactive Selling System® one-day workshop is designed to increase the levels of your F&I Managers skills in the following areas – effective menu presentation\, cash conversions\, lease presentation\, objection handling\, forecasting and tracking (department and individual). Your managers will leave with a game plan to up their performance in these areas.
URL:https://www.adgtraining.com/event/advanced-fi-course-2021-10-19/
LOCATION:SpringHill Suites by Marriott Coralville\, 1001 25th Ave\, Coralville\, IA\, 52241\, United States
CATEGORIES:Advanced F&I Course
GEO:41.6883287;-91.6026021
X-APPLE-STRUCTURED-LOCATION;VALUE=URI;X-ADDRESS=SpringHill Suites by Marriott Coralville 1001 25th Ave Coralville IA 52241 United States;X-APPLE-RADIUS=500;X-TITLE=1001 25th Ave:geo:-91.6026021,41.6883287
END:VEVENT
BEGIN:VEVENT
DTSTART;TZID=America/Chicago:20211019T133000
DTEND;TZID=America/Chicago:20211019T163000
DTSTAMP:20260421T232100
CREATED:20210929T203410Z
LAST-MODIFIED:20210929T203410Z
UID:10000342-1634650200-1634661000@www.adgtraining.com
SUMMARY:Session 2 - F&I
DESCRIPTION:The Proactive Total Ownership Experience (Advanced Course) for Today’s F & I Pro\nUpon completion of this course the student will be able to: \n\nIncrease Lease PLU\nForecast sales and track results to achieve department and dealership goals\nHandle Objections\nIncrease finance penetration by increasing cash conversions\n\nThis Proactive Selling System® one-day workshop is designed to increase the levels of your F&I Managers skills in the following areas – effective menu presentation\, cash conversions\, lease presentation\, objection handling\, forecasting and tracking (department and individual). Your managers will leave with a game plan to up their performance in these areas.
URL:https://www.adgtraining.com/event/advanced-fi-course-2021-10-19-3/
LOCATION:Holiday Inn and Bien Venu Event Center\, 7400 Hudson Rd\, Cedar Falls\, IA\, 50613\, United States
CATEGORIES:Advanced F&I Course
GEO:42.4719372;-92.4640848
X-APPLE-STRUCTURED-LOCATION;VALUE=URI;X-ADDRESS=Holiday Inn and Bien Venu Event Center 7400 Hudson Rd Cedar Falls IA 50613 United States;X-APPLE-RADIUS=500;X-TITLE=7400 Hudson Rd:geo:-92.4640848,42.4719372
END:VEVENT
BEGIN:VEVENT
DTSTART;TZID=America/Chicago:20211020T083000
DTEND;TZID=America/Chicago:20211020T113000
DTSTAMP:20260421T232100
CREATED:20210928T212009Z
LAST-MODIFIED:20210929T203512Z
UID:10000261-1634718600-1634729400@www.adgtraining.com
SUMMARY:Session 1 - F&I
DESCRIPTION:The Proactive Total Ownership Experience (Advanced Course) for Today’s F & I Pro\nUpon completion of this course the student will be able to: \n\nIncrease Lease PLU\nForecast sales and track results to achieve department and dealership goals\nHandle Objections\nIncrease finance penetration by increasing cash conversions\n\nThis Proactive Selling System® one-day workshop is designed to increase the levels of your F&I Managers skills in the following areas – effective menu presentation\, cash conversions\, lease presentation\, objection handling\, forecasting and tracking (department and individual). Your managers will leave with a game plan to up their performance in these areas.
URL:https://www.adgtraining.com/event/advanced-fi-course-2021-10-20-2/
LOCATION:SpringHill Suites by Marriott Coralville\, 1001 25th Ave\, Coralville\, IA\, 52241\, United States
CATEGORIES:Advanced F&I Course
GEO:41.6883287;-91.6026021
X-APPLE-STRUCTURED-LOCATION;VALUE=URI;X-ADDRESS=SpringHill Suites by Marriott Coralville 1001 25th Ave Coralville IA 52241 United States;X-APPLE-RADIUS=500;X-TITLE=1001 25th Ave:geo:-91.6026021,41.6883287
END:VEVENT
BEGIN:VEVENT
DTSTART;TZID=America/Chicago:20211020T090000
DTEND;TZID=America/Chicago:20211020T160000
DTSTAMP:20260421T232100
CREATED:20210809T191644Z
LAST-MODIFIED:20210809T191644Z
UID:10000341-1634720400-1634745600@www.adgtraining.com
SUMMARY:Advanced F&I Pro - IA
DESCRIPTION:The Proactive Total Ownership Experience (Advanced Course) for Today’s F & I Pro\nUpon completion of this course the student will be able to: \n\nIncrease Lease PLU\nForecast sales and track results to achieve department and dealership goals\nHandle Objections\nIncrease finance penetration by increasing cash conversions\n\nThis Proactive Selling System® one-day workshop is designed to increase the levels of your F&I Managers skills in the following areas – effective menu presentation\, cash conversions\, lease presentation\, objection handling\, forecasting and tracking (department and individual). Your managers will leave with a game plan to up their performance in these areas.
URL:https://www.adgtraining.com/event/advanced-fi-course-2021-10-20/
LOCATION:Courtyard by Marriott – Ankeny\, 2405 SE Creekview Dr\, Ankeny\, IA\, 50021\, United States
CATEGORIES:Advanced F&I Course
GEO:41.7048588;-93.5686953
X-APPLE-STRUCTURED-LOCATION;VALUE=URI;X-ADDRESS=Courtyard by Marriott – Ankeny 2405 SE Creekview Dr Ankeny IA 50021 United States;X-APPLE-RADIUS=500;X-TITLE=2405 SE Creekview Dr:geo:-93.5686953,41.7048588
END:VEVENT
BEGIN:VEVENT
DTSTART;TZID=America/Chicago:20211020T133000
DTEND;TZID=America/Chicago:20211020T163000
DTSTAMP:20260421T232100
CREATED:20210928T212132Z
LAST-MODIFIED:20210929T203545Z
UID:10000263-1634736600-1634747400@www.adgtraining.com
SUMMARY:Session 2 - F&I
DESCRIPTION:The Proactive Total Ownership Experience (Advanced Course) for Today’s F & I Pro\nUpon completion of this course the student will be able to: \n\nIncrease Lease PLU\nForecast sales and track results to achieve department and dealership goals\nHandle Objections\nIncrease finance penetration by increasing cash conversions\n\nThis Proactive Selling System® one-day workshop is designed to increase the levels of your F&I Managers skills in the following areas – effective menu presentation\, cash conversions\, lease presentation\, objection handling\, forecasting and tracking (department and individual). Your managers will leave with a game plan to up their performance in these areas.
URL:https://www.adgtraining.com/event/advanced-fi-course-2021-10-20-3/
LOCATION:SpringHill Suites by Marriott Coralville\, 1001 25th Ave\, Coralville\, IA\, 52241\, United States
CATEGORIES:Advanced F&I Course
GEO:41.6883287;-91.6026021
X-APPLE-STRUCTURED-LOCATION;VALUE=URI;X-ADDRESS=SpringHill Suites by Marriott Coralville 1001 25th Ave Coralville IA 52241 United States;X-APPLE-RADIUS=500;X-TITLE=1001 25th Ave:geo:-91.6026021,41.6883287
END:VEVENT
BEGIN:VEVENT
DTSTART;TZID=America/Chicago:20211026T090000
DTEND;TZID=America/Chicago:20211026T160000
DTSTAMP:20260421T232100
CREATED:20210816T171505Z
LAST-MODIFIED:20210824T142446Z
UID:10000253-1635238800-1635264000@www.adgtraining.com
SUMMARY:Advanced F&I Pro - PA
DESCRIPTION:The Proactive Total Ownership Experience (Advanced Course) for Today’s F & I Pro\nUpon completion of this course the student will be able to: \n\nIncrease Lease PLU\nForecast sales and track results to achieve department and dealership goals\nHandle Objections\nIncrease finance penetration by increasing cash conversions\n\nThis Proactive Selling System® one-day workshop is designed to increase the levels of your F&I Managers skills in the following areas – effective menu presentation\, cash conversions\, lease presentation\, objection handling\, forecasting and tracking (department and individual). Your managers will leave with a game plan to up their performance in these areas.
URL:https://www.adgtraining.com/event/advanced-fi-course-2021-10-26/
LOCATION:Hampton Inn Pittsburgh/Cranberry\, 210 Executive Dr\, Cranberry Twp\, PA\, 16066
CATEGORIES:Advanced F&I Course
GEO:40.6862176;-80.1079868
X-APPLE-STRUCTURED-LOCATION;VALUE=URI;X-ADDRESS=Hampton Inn Pittsburgh/Cranberry 210 Executive Dr Cranberry Twp PA 16066;X-APPLE-RADIUS=500;X-TITLE=210 Executive Dr:geo:-80.1079868,40.6862176
END:VEVENT
BEGIN:VEVENT
DTSTART;TZID=America/Chicago:20211027T090000
DTEND;TZID=America/Chicago:20211027T170000
DTSTAMP:20260421T232100
CREATED:20210816T171815Z
LAST-MODIFIED:20210824T143019Z
UID:10000255-1635325200-1635354000@www.adgtraining.com
SUMMARY:Leadership for Managers - PA
DESCRIPTION:The Proactive Leadership Experience (Foundation Course) for Today’s Owner\, GM\, GSM\, Sales Manager & Service Manager.\nUpon completion of this course the student will be able to: \n\nUnderstand and apply the PI behavioral assessment to identify how their organization can address key business issues and challenges\nMake better hiring decisions using behavioral interview techniques\nDevelop a proactive on-boarding strategy\nCoach and motivate their sales staff\n\nThis workshop is designed to help current and future dealership leaders improve their skills in: understanding the dynamics of personality types\, effective hiring practices\, on- boarding processes\, and motivating team members.
URL:https://www.adgtraining.com/event/leadership-for-managers-course-2021-10-27/
LOCATION:Hampton Inn Pittsburgh/Cranberry\, 210 Executive Dr\, Cranberry Twp\, PA\, 16066
CATEGORIES:Leadership For Managers
GEO:40.6862176;-80.1079868
X-APPLE-STRUCTURED-LOCATION;VALUE=URI;X-ADDRESS=Hampton Inn Pittsburgh/Cranberry 210 Executive Dr Cranberry Twp PA 16066;X-APPLE-RADIUS=500;X-TITLE=210 Executive Dr:geo:-80.1079868,40.6862176
END:VEVENT
END:VCALENDAR