BEGIN:VCALENDAR
VERSION:2.0
PRODID:-//Brown &amp; Brown Dealer Services - ECPv6.15.18//NONSGML v1.0//EN
CALSCALE:GREGORIAN
METHOD:PUBLISH
X-WR-CALNAME:Brown &amp; Brown Dealer Services
X-ORIGINAL-URL:https://www.adgtraining.com
X-WR-CALDESC:Events for Brown &amp; Brown Dealer Services
REFRESH-INTERVAL;VALUE=DURATION:PT1H
X-Robots-Tag:noindex
X-PUBLISHED-TTL:PT1H
BEGIN:VTIMEZONE
TZID:America/Chicago
BEGIN:DAYLIGHT
TZOFFSETFROM:-0600
TZOFFSETTO:-0500
TZNAME:CDT
DTSTART:20200308T080000
END:DAYLIGHT
BEGIN:STANDARD
TZOFFSETFROM:-0500
TZOFFSETTO:-0600
TZNAME:CST
DTSTART:20201101T070000
END:STANDARD
BEGIN:DAYLIGHT
TZOFFSETFROM:-0600
TZOFFSETTO:-0500
TZNAME:CDT
DTSTART:20210314T080000
END:DAYLIGHT
BEGIN:STANDARD
TZOFFSETFROM:-0500
TZOFFSETTO:-0600
TZNAME:CST
DTSTART:20211107T070000
END:STANDARD
BEGIN:DAYLIGHT
TZOFFSETFROM:-0600
TZOFFSETTO:-0500
TZNAME:CDT
DTSTART:20220313T080000
END:DAYLIGHT
BEGIN:STANDARD
TZOFFSETFROM:-0500
TZOFFSETTO:-0600
TZNAME:CST
DTSTART:20221106T070000
END:STANDARD
END:VTIMEZONE
BEGIN:VEVENT
DTSTART;TZID=America/Chicago:20211116T090000
DTEND;TZID=America/Chicago:20211116T170000
DTSTAMP:20260421T213254
CREATED:20210810T154714Z
LAST-MODIFIED:20210909T131940Z
UID:10000247-1637053200-1637082000@www.adgtraining.com
SUMMARY:Sales Pro - IL
DESCRIPTION:The Proactive Total Ownership Experience (Foundation Course) for Today’s Sales Pro.\nUpon completion of this course the student will be able to: \n\nAchieve the mindset of a pro\nIdentify the dynamics of today’s customer and help make a buying decision\nUnderstand the neuroscience behind sales resistance and how to lower it\nControl the sales process with framing statements\nDeliver the Total Ownership Experience \n\nThis proven Proactive Selling System® workshop will help ALL sales employees acquire and enhance the skills necessary to succeed with today’s educated buyer. Participants will learn how to engage the customer by guiding them thru the ownership experience while eliminating today’s common objections.
URL:https://www.adgtraining.com/event/sales-pro-course-il-2021-11-16/
LOCATION:Prestwick Country Club\, 601 Prestwick Drive\, Frankfort\, IL\, 60423\, United States
CATEGORIES:Sales Pro Course
GEO:41.4959049;-87.7947397
X-APPLE-STRUCTURED-LOCATION;VALUE=URI;X-ADDRESS=Prestwick Country Club 601 Prestwick Drive Frankfort IL 60423 United States;X-APPLE-RADIUS=500;X-TITLE=601 Prestwick Drive:geo:-87.7947397,41.4959049
END:VEVENT
BEGIN:VEVENT
DTSTART;TZID=America/Chicago:20211117T090000
DTEND;TZID=America/Chicago:20211117T170000
DTSTAMP:20260421T213254
CREATED:20210810T154920Z
LAST-MODIFIED:20210909T132120Z
UID:10000249-1637139600-1637168400@www.adgtraining.com
SUMMARY:Advanced F&I Pro - IL
DESCRIPTION:The Proactive Total Ownership Experience (Advanced Course) for Today’s F & I Pro\nUpon completion of this course the student will be able to: \n\nIncrease Lease PLU\nForecast sales and track results to achieve department and dealership goals\nHandle Objections\nIncrease finance penetration by increasing cash conversions\n\nThis Proactive Selling System® one-day workshop is designed to increase the levels of your F&I Managers skills in the following areas – effective menu presentation\, cash conversions\, lease presentation\, objection handling\, forecasting and tracking (department and individual). Your managers will leave with a game plan to up their performance in these areas.
URL:https://www.adgtraining.com/event/advanced-fi-course-2021-11-17/
LOCATION:Prestwick Country Club\, 601 Prestwick Drive\, Frankfort\, IL\, 60423\, United States
CATEGORIES:Advanced F&I Course
GEO:41.4959049;-87.7947397
X-APPLE-STRUCTURED-LOCATION;VALUE=URI;X-ADDRESS=Prestwick Country Club 601 Prestwick Drive Frankfort IL 60423 United States;X-APPLE-RADIUS=500;X-TITLE=601 Prestwick Drive:geo:-87.7947397,41.4959049
END:VEVENT
BEGIN:VEVENT
DTSTART;TZID=America/Chicago:20211118T090000
DTEND;TZID=America/Chicago:20211118T170000
DTSTAMP:20260421T213254
CREATED:20210810T155140Z
LAST-MODIFIED:20210909T132209Z
UID:10000251-1637226000-1637254800@www.adgtraining.com
SUMMARY:Leadership for Managers - IL
DESCRIPTION:The Proactive Leadership Experience (Foundation Course) for Today’s Owner\, GM\, GSM\, Sales Manager & Service Manager.\nUpon completion of this course the student will be able to: \n\nUnderstand and apply the PI behavioral assessment to identify how their organization can address key business issues and challenges\nMake better hiring decisions using behavioral interview techniques\nDevelop a proactive on-boarding strategy\nCoach and motivate their sales staff\n\nThis workshop is designed to help current and future dealership leaders improve their skills in: understanding the dynamics of personality types\, effective hiring practices\, on- boarding processes\, and motivating team members.
URL:https://www.adgtraining.com/event/leadership-for-managers-course-2021-11-18/
LOCATION:Prestwick Country Club\, 601 Prestwick Drive\, Frankfort\, IL\, 60423\, United States
CATEGORIES:Leadership For Managers
GEO:41.4959049;-87.7947397
X-APPLE-STRUCTURED-LOCATION;VALUE=URI;X-ADDRESS=Prestwick Country Club 601 Prestwick Drive Frankfort IL 60423 United States;X-APPLE-RADIUS=500;X-TITLE=601 Prestwick Drive:geo:-87.7947397,41.4959049
END:VEVENT
END:VCALENDAR