BEGIN:VCALENDAR
VERSION:2.0
PRODID:-//Brown &amp; Brown Dealer Services - ECPv6.15.18//NONSGML v1.0//EN
CALSCALE:GREGORIAN
METHOD:PUBLISH
X-WR-CALNAME:Brown &amp; Brown Dealer Services
X-ORIGINAL-URL:https://www.adgtraining.com
X-WR-CALDESC:Events for Brown &amp; Brown Dealer Services
REFRESH-INTERVAL;VALUE=DURATION:PT1H
X-Robots-Tag:noindex
X-PUBLISHED-TTL:PT1H
BEGIN:VTIMEZONE
TZID:America/Chicago
BEGIN:DAYLIGHT
TZOFFSETFROM:-0600
TZOFFSETTO:-0500
TZNAME:CDT
DTSTART:20220313T080000
END:DAYLIGHT
BEGIN:STANDARD
TZOFFSETFROM:-0500
TZOFFSETTO:-0600
TZNAME:CST
DTSTART:20221106T070000
END:STANDARD
BEGIN:DAYLIGHT
TZOFFSETFROM:-0600
TZOFFSETTO:-0500
TZNAME:CDT
DTSTART:20230312T080000
END:DAYLIGHT
BEGIN:STANDARD
TZOFFSETFROM:-0500
TZOFFSETTO:-0600
TZNAME:CST
DTSTART:20231105T070000
END:STANDARD
BEGIN:DAYLIGHT
TZOFFSETFROM:-0600
TZOFFSETTO:-0500
TZNAME:CDT
DTSTART:20240310T080000
END:DAYLIGHT
BEGIN:STANDARD
TZOFFSETFROM:-0500
TZOFFSETTO:-0600
TZNAME:CST
DTSTART:20241103T070000
END:STANDARD
END:VTIMEZONE
BEGIN:VEVENT
DTSTART;TZID=America/Chicago:20230803T090000
DTEND;TZID=America/Chicago:20230803T120000
DTSTAMP:20260420T103916
CREATED:20230727T152527Z
LAST-MODIFIED:20230727T152527Z
UID:10000431-1691053200-1691064000@www.adgtraining.com
SUMMARY:Service Pro - MN
DESCRIPTION:Upon completion of this course the student you will be able to: \n\nAchieve the mindset of a pro\nIdentify the dynamics of today’s customer and help make a buying decision\nUnderstand the neuroscience behind sales resistance and how to lower it\nControl the sales process with framing statements\nDeliver the Total Ownership Experience\n\nThis proven Proactive Selling System® workshop is designed to help service advisors improve their sales process and increase closing ratios by lowering the client’s natural sales resistance.  Participants will learn effective skills to help guide them and the customer to a buying decision.
URL:https://www.adgtraining.com/event/pss-service-pro-course-2023-8-3/
LOCATION:ADG Corporate Oﬃce\, 5810 W. 78th St\, Suite 300\, Bloomington\, MN\, 55439\, United States
CATEGORIES:Service Training Course
GEO:44.8618408;-93.357546
X-APPLE-STRUCTURED-LOCATION;VALUE=URI;X-ADDRESS=ADG Corporate Oﬃce 5810 W. 78th St Suite 300 Bloomington MN 55439 United States;X-APPLE-RADIUS=500;X-TITLE=5810 W. 78th St\, Suite 300:geo:-93.357546,44.8618408
END:VEVENT
BEGIN:VEVENT
DTSTART;TZID=America/Chicago:20230803T130000
DTEND;TZID=America/Chicago:20230803T160000
DTSTAMP:20260420T103916
CREATED:20230727T152738Z
LAST-MODIFIED:20230727T152738Z
UID:10000432-1691067600-1691078400@www.adgtraining.com
SUMMARY:Service Pro - MN
DESCRIPTION:Upon completion of this course the student you will be able to: \n\nAchieve the mindset of a pro\nIdentify the dynamics of today’s customer and help make a buying decision\nUnderstand the neuroscience behind sales resistance and how to lower it\nControl the sales process with framing statements\nDeliver the Total Ownership Experience\n\nThis proven Proactive Selling System® workshop is designed to help service advisors improve their sales process and increase closing ratios by lowering the client’s natural sales resistance.  Participants will learn effective skills to help guide them and the customer to a buying decision.
URL:https://www.adgtraining.com/event/pss-service-pro-course-2023-8-3-2/
LOCATION:ADG Corporate Oﬃce\, 5810 W. 78th St\, Suite 300\, Bloomington\, MN\, 55439\, United States
CATEGORIES:Service Training Course
GEO:44.8618408;-93.357546
X-APPLE-STRUCTURED-LOCATION;VALUE=URI;X-ADDRESS=ADG Corporate Oﬃce 5810 W. 78th St Suite 300 Bloomington MN 55439 United States;X-APPLE-RADIUS=500;X-TITLE=5810 W. 78th St\, Suite 300:geo:-93.357546,44.8618408
END:VEVENT
END:VCALENDAR